BEGIN:VCALENDAR
VERSION:2.0
PRODID:-//MLP//ical//EN
TIMEZONE-ID:Europe/Berlin
X-WR-TIMEZONE:Europe/Berlin
BEGIN:VEVENT
UID:i9oe@events.mlp.de
SEQUENCE:0
DTSTAMP:20260421T084654Z
DTSTART:20260317T183000Z
DTEND:20260317T203000Z
SUMMARY:Praxisabgabeseminar für Ärztinnen und Ärzte
LOCATION:\n    MLP  Beratungszentrum Hamburg\,\n\n    Admiralitätstraße 10
 \,\n\n    20459 Hamburg\n    
DESCRIPTION:Zur An-/Abmeldung und weiteren Informationen:\nevents.mlp.de/e
 vents/i2ggz2ahgz/praxisabgabeseminar-fuer-arztinnen-und-arzte
END:VEVENT
END:VCALENDAR